BEGIN:VCALENDAR
VERSION:2.0
PRODID:-//ELSA-Köln - ECPv6.15.12.2//NONSGML v1.0//EN
CALSCALE:GREGORIAN
METHOD:PUBLISH
X-ORIGINAL-URL:https://elsa-koeln.de
X-WR-CALDESC:Veranstaltungen für ELSA-Köln
REFRESH-INTERVAL;VALUE=DURATION:PT1H
X-Robots-Tag:noindex
X-PUBLISHED-TTL:PT1H
BEGIN:VTIMEZONE
TZID:Europe/Berlin
BEGIN:DAYLIGHT
TZOFFSETFROM:+0100
TZOFFSETTO:+0200
TZNAME:CEST
DTSTART:20230326T010000
END:DAYLIGHT
BEGIN:STANDARD
TZOFFSETFROM:+0200
TZOFFSETTO:+0100
TZNAME:CET
DTSTART:20231029T010000
END:STANDARD
BEGIN:DAYLIGHT
TZOFFSETFROM:+0100
TZOFFSETTO:+0200
TZNAME:CEST
DTSTART:20240331T010000
END:DAYLIGHT
BEGIN:STANDARD
TZOFFSETFROM:+0200
TZOFFSETTO:+0100
TZNAME:CET
DTSTART:20241027T010000
END:STANDARD
BEGIN:DAYLIGHT
TZOFFSETFROM:+0100
TZOFFSETTO:+0200
TZNAME:CEST
DTSTART:20250330T010000
END:DAYLIGHT
BEGIN:STANDARD
TZOFFSETFROM:+0200
TZOFFSETTO:+0100
TZNAME:CET
DTSTART:20251026T010000
END:STANDARD
END:VTIMEZONE
BEGIN:VEVENT
DTSTART;TZID=Europe/Berlin:20240416T180000
DTEND;TZID=Europe/Berlin:20240416T210000
DTSTAMP:20260426T041341
CREATED:20230105T123225Z
LAST-MODIFIED:20240326T132622Z
UID:2641-1713290400-1713301200@elsa-koeln.de
SUMMARY:Kanzleiführung bei Redeker Sellner Dahs
DESCRIPTION:Das erste L@w-Event im Sommersemester 2024 wird in Kooperation mit Redeker Sellner Dahs stattfinden. Habt ihr euch schonmal gefragt haben\, wie es nach dem Studium weitergehen könnte oder seid ihr ganz neu dabei  und möchtet einen Blick in die verschiedenen Facetten des Anwaltsberufs werfen? Dann laden wir euch herzlich ein an der Kanzleiführung teilzunehmen. Diese wird sich um das Thema „Studium: Einstieg in den Beruf-Berufsalltag“ drehen. Bei dieser könnt ihr alle Fragen zum Anwaltsberuf\, Studium und Karriereperspektiven loswerden und im Rahmen eines Get Togethers in entspannter Atmosphäre\, euch mit erfahrenen Anwälten austauschen. Es sind alle Jura-Studenten ab dem ersten Semester eingeladen. \nWenn du interessiert bist\, dann melde dich gerne an\, denn die Plätze sind begrenzt. \nWir freuen uns auf euch! \n\n\n  \n\n\n\nAnmeldung\n \n Nachname (Pflichtfeld)  \n \n Vorname (Pflichtfeld)  \n \n E-Mail (Pflichtfeld)  \n \n Bist du Mitglied bei ELSA?  ELSA-MitgliedKein ELSA-Mitglied \n \n\nIch bin mit der Verarbeitung meiner Daten durch den Verein im Wege der elektronischen Datenverarbeitung einverstanden. Die Daten werden nicht an Dritte weitergegeben.\nIch bin darauf hingewiesen worden\, dass ich diese Erklärung jederzeit per E-Mail an\ninfo@elsa-koeln.de widerrufen kann. Durch den Widerruf wird die Rechtmäßigkeit der\nbis zum Widerruf erfolgten Datenverarbeitung nicht berührt.\n\n \n Ja\, ich bin mit der Verarbeitung meiner Daten einverstanden.  \n \n\n \n\n\n\n 
URL:https://elsa-koeln.de/event/kanzleifuehrung-bei-redeker-sellner-dahs/
LOCATION:Redeker Sellner Dahs\, Willy-Brandt-Allee 11\, Bonn\, NRW\, 53113
ATTACH;FMTTYPE=image/jpeg:https://elsa-koeln.de/wp-content/uploads/sites/24/2021/04/pexels-fauxels-3184418.jpg
END:VEVENT
BEGIN:VEVENT
DTSTART;TZID=Europe/Berlin:20240424T141500
DTEND;TZID=Europe/Berlin:20240424T174500
DTSTAMP:20260426T041341
CREATED:20220915T133655Z
LAST-MODIFIED:20240408T085624Z
UID:2512-1713968100-1713980700@elsa-koeln.de
SUMMARY:Besuch beim Landtag NRW
DESCRIPTION:Erlebe einen unvergesslichen Tag in der Welt der Politik! Am 24.04.2024 treffen wir uns um 14 Uhr vor dem imposanten Landtag Nordrhein-Westfalen\, wo wir gemeinsam an einer Plenarsitzung teilnehmen dürfen. Danach öffnen wir die Türen für eine exklusive Tour durch das Parlament\, gefolgt von einer Diskussionsrunde mit einem Abgeordneten. \nTauche ein\, stelle deine Fragen und diskutiere mit den Entscheidungsträgern. Zum Abschluss laden wir dich ein\, bei Kaffee und Kuchen zu entspannen und das Erlebte Revue passieren zu lassen. Die Plätze sind begrenzt\, also sichere dir jetzt deine Teilnahme und erlebe Politik hautnah! \n  \n\n\n  \n\n\n\n  Anmeldung  \n \n Nachname (Pflichtfeld)\n \n \n Vorname (Pflichtfeld)\n \n \n E-Mail (Pflichtfeld)\n \n \n Telefon (Pflichtfeld)\n \n \n Adresse (Plichtfeld)\n \n \n Ort (Pflichtfeld)\n \n \n PLZ (Pflichtfeld)\n \n \n\n Bist du Mitglied bei ELSA? (Pflichtfeld)\n– Bitte auswählen –ELSA-Mitgliedkein ELSA-Mitglied \n \n\n Ich willige ein\, dass ELSA-Köln e.V. während der Veranstaltung Fotos von mir machen und diese im Internet und den Sozialen Medien veröffentlichen darf. \n \n\n Ich bin mit der Verarbeitung meiner Daten durch den Verein im Wege der elektronischen Datenverarbeitung einverstanden.\nDie Daten werden nicht an Dritte weitergegeben.\nIch bin darauf hingewiesen worden\, dass ich diese Erklärung jederzeit per E-Mail an info@elsa-koeln.de widerrufen kann.\nDurch den Widerruf wird die Rechtmäßigkeit der bis zum Widerruf erfolgten Datenverarbeitung nicht berührt. \n \n\n  Ja\, ich bin mit der Verarbeitung meiner Daten einverstanden. \n \n\n \n\n\n\n 
URL:https://elsa-koeln.de/event/besuch-im-landtag-nrw/
LOCATION:Landtag NRW\, Platz des Landtags 1\, 40221 Düsseldorf\, Deutschland
ATTACH;FMTTYPE=image/jpeg:https://elsa-koeln.de/wp-content/uploads/sites/24/2020/05/elsa_germany_basti_rednerpult.jpg
END:VEVENT
END:VCALENDAR