BEGIN:VCALENDAR
VERSION:2.0
PRODID:-//ELSA-Köln - ECPv6.15.12.2//NONSGML v1.0//EN
CALSCALE:GREGORIAN
METHOD:PUBLISH
X-ORIGINAL-URL:https://elsa-koeln.de
X-WR-CALDESC:Veranstaltungen für ELSA-Köln
REFRESH-INTERVAL;VALUE=DURATION:PT1H
X-Robots-Tag:noindex
X-PUBLISHED-TTL:PT1H
BEGIN:VTIMEZONE
TZID:Europe/Berlin
BEGIN:DAYLIGHT
TZOFFSETFROM:+0100
TZOFFSETTO:+0200
TZNAME:CEST
DTSTART:20230326T010000
END:DAYLIGHT
BEGIN:STANDARD
TZOFFSETFROM:+0200
TZOFFSETTO:+0100
TZNAME:CET
DTSTART:20231029T010000
END:STANDARD
BEGIN:DAYLIGHT
TZOFFSETFROM:+0100
TZOFFSETTO:+0200
TZNAME:CEST
DTSTART:20240331T010000
END:DAYLIGHT
BEGIN:STANDARD
TZOFFSETFROM:+0200
TZOFFSETTO:+0100
TZNAME:CET
DTSTART:20241027T010000
END:STANDARD
BEGIN:DAYLIGHT
TZOFFSETFROM:+0100
TZOFFSETTO:+0200
TZNAME:CEST
DTSTART:20250330T010000
END:DAYLIGHT
BEGIN:STANDARD
TZOFFSETFROM:+0200
TZOFFSETTO:+0100
TZNAME:CET
DTSTART:20251026T010000
END:STANDARD
END:VTIMEZONE
BEGIN:VEVENT
DTSTART;TZID=Europe/Berlin:20240617T180000
DTEND;TZID=Europe/Berlin:20240617T210000
DTSTAMP:20260426T005112
CREATED:20240215T145033Z
LAST-MODIFIED:20240611T194939Z
UID:2936-1718647200-1718658000@elsa-koeln.de
SUMMARY:ELSA Mitgliederversammlung
DESCRIPTION:Liebe ELSA Köln Mitglieder\, \nwir laden euch herzlich zu unserer ordentlichen Mitgliederversammlung am 17.06.2024 um 18:00 Uhr ein! Stattfinden wird die Mitgliederversammlung im Seminarraum S21 im Seminargebäude. Solltest du am Montag nicht kommen können\, kannst du deine Stimme an ein anderes ELSA Köln Mitglied delegieren. Bei Fragen kannst du dich jederzeit gerne an uns wenden unter: president@elsa-koeln.de\, secgen@elsa-koeln.de und info@elsa-koeln.de. \nWir hoffen am Montag möglichst viele von euch zu sehen! \nEuer ELSA Köln
URL:https://elsa-koeln.de/event/elsa-mitgliederversammlung/
LOCATION:Universität zu Köln\, Seminargebäude (106)\, Universitätsstraße 37\, Köln\, NRW\, 50931\, Deutschland
ATTACH;FMTTYPE=image/jpeg:https://elsa-koeln.de/wp-content/uploads/sites/24/2021/04/pexels-fauxels-3184418.jpg
END:VEVENT
END:VCALENDAR