BEGIN:VCALENDAR
VERSION:2.0
PRODID:-//ELSA-Köln - ECPv6.15.12.2//NONSGML v1.0//EN
CALSCALE:GREGORIAN
METHOD:PUBLISH
X-WR-CALNAME:ELSA-Köln
X-ORIGINAL-URL:https://elsa-koeln.de
X-WR-CALDESC:Veranstaltungen für ELSA-Köln
REFRESH-INTERVAL;VALUE=DURATION:PT1H
X-Robots-Tag:noindex
X-PUBLISHED-TTL:PT1H
BEGIN:VTIMEZONE
TZID:Europe/Berlin
BEGIN:DAYLIGHT
TZOFFSETFROM:+0100
TZOFFSETTO:+0200
TZNAME:CEST
DTSTART:20230326T010000
END:DAYLIGHT
BEGIN:STANDARD
TZOFFSETFROM:+0200
TZOFFSETTO:+0100
TZNAME:CET
DTSTART:20231029T010000
END:STANDARD
BEGIN:DAYLIGHT
TZOFFSETFROM:+0100
TZOFFSETTO:+0200
TZNAME:CEST
DTSTART:20240331T010000
END:DAYLIGHT
BEGIN:STANDARD
TZOFFSETFROM:+0200
TZOFFSETTO:+0100
TZNAME:CET
DTSTART:20241027T010000
END:STANDARD
BEGIN:DAYLIGHT
TZOFFSETFROM:+0100
TZOFFSETTO:+0200
TZNAME:CEST
DTSTART:20250330T010000
END:DAYLIGHT
BEGIN:STANDARD
TZOFFSETFROM:+0200
TZOFFSETTO:+0100
TZNAME:CET
DTSTART:20251026T010000
END:STANDARD
END:VTIMEZONE
BEGIN:VEVENT
DTSTART;TZID=Europe/Berlin:20240813T190000
DTEND;TZID=Europe/Berlin:20240813T220000
DTSTAMP:20260425T212757
CREATED:20240723T122023Z
LAST-MODIFIED:20240802T152803Z
UID:3039-1723575600-1723586400@elsa-koeln.de
SUMMARY:ELSA-Stammtisch
DESCRIPTION:Die Klausuren sind bald vorbei und das bedeutet endlich: Pause von Vorlesungen und Fristen! Viele fahren in den Urlaub\, aber wer es nicht tut\, ist herzlich eingeladen zum entspannten Get-Together am 13.08.2024 um 19:00 Uhr im Raum S11 im Seminargebäude mit ELSA-Köln e.V. Wir werden Gesellschaftsspiele dabei haben\, um uns den Abend mit viel Spaß zu bereichern. \nLasst uns einen schönen Sommerabend beim ersten Get-Together im neuen Amtsjahr genießen! \nWir freuen uns auf euch. \nBei Fragen könnt ihr euch gern an Karolina über human-resources@elsa-koeln.de wenden. \n  \n\n\n  \n\n\n\nAnmeldung\n \n Nachname (Pflichtfeld)  \n \n Vorname (Pflichtfeld)  \n \n E-Mail (Pflichtfeld)  \n \n Bist du Mitglied bei ELSA? – Bitte auswählen –ELSA-MitgliedKein ELSA-Mitglied\n \n\nIch bin mit der Verarbeitung meiner Daten durch den Verein im Wege der elektronischen Datenverarbeitung einverstanden.\nDie Daten werden nicht an Dritte weitergegeben.\nIch bin darauf hingewiesen worden\, dass ich diese Erklärung jederzeit per E-Mail an info@elsa-koeln.de widerrufen kann.\nDurch den Widerruf wird die Rechtmäßigkeit der bis zum Widerruf erfolgten Datenverarbeitung nicht berührt.\n\n \n Ja\, ich bin mit der Verarbeitung meiner Daten einverstanden.
URL:https://elsa-koeln.de/event/elsa-stammtisch/
LOCATION:Universität zu Köln\, Seminargebäude (106)\, Universitätsstraße 37\, Köln\, NRW\, 50931\, Deutschland
ATTACH;FMTTYPE=image/jpeg:https://elsa-koeln.de/wp-content/uploads/sites/24/2021/04/pexels-cottonbro-3171815-1.jpg
END:VEVENT
END:VCALENDAR