BEGIN:VCALENDAR
VERSION:2.0
PRODID:-//ELSA-Köln - ECPv6.15.12.2//NONSGML v1.0//EN
CALSCALE:GREGORIAN
METHOD:PUBLISH
X-ORIGINAL-URL:https://elsa-koeln.de
X-WR-CALDESC:Veranstaltungen für ELSA-Köln
REFRESH-INTERVAL;VALUE=DURATION:PT1H
X-Robots-Tag:noindex
X-PUBLISHED-TTL:PT1H
BEGIN:VTIMEZONE
TZID:Europe/Berlin
BEGIN:DAYLIGHT
TZOFFSETFROM:+0100
TZOFFSETTO:+0200
TZNAME:CEST
DTSTART:20230326T010000
END:DAYLIGHT
BEGIN:STANDARD
TZOFFSETFROM:+0200
TZOFFSETTO:+0100
TZNAME:CET
DTSTART:20231029T010000
END:STANDARD
BEGIN:DAYLIGHT
TZOFFSETFROM:+0100
TZOFFSETTO:+0200
TZNAME:CEST
DTSTART:20240331T010000
END:DAYLIGHT
BEGIN:STANDARD
TZOFFSETFROM:+0200
TZOFFSETTO:+0100
TZNAME:CET
DTSTART:20241027T010000
END:STANDARD
BEGIN:DAYLIGHT
TZOFFSETFROM:+0100
TZOFFSETTO:+0200
TZNAME:CEST
DTSTART:20250330T010000
END:DAYLIGHT
BEGIN:STANDARD
TZOFFSETFROM:+0200
TZOFFSETTO:+0100
TZNAME:CET
DTSTART:20251026T010000
END:STANDARD
END:VTIMEZONE
BEGIN:VEVENT
DTSTART;TZID=Europe/Berlin:20240915T144500
DTEND;TZID=Europe/Berlin:20240915T170000
DTSTAMP:20260425T194719
CREATED:20240903T102354Z
LAST-MODIFIED:20240903T110403Z
UID:3159-1726411500-1726419600@elsa-koeln.de
SUMMARY:Sommerabschlussfest
DESCRIPTION:Hallo ihr Lieben\, \nunser Sommerabschlussfest steht an! 🌞Dafür treffen wir uns am Sonntag den 15.09.2024 beim UniSport\, um gemeinsam zwei Stunden unsere Künste im Beachvolleyball unter Beweis zu stellen. Natürlich sind alle Levels willkommen\, Hauptsache ihr bringt ganz viel gute Laune mit! 🏐🎉 \nWir treffen uns um 14:45 Uhr vorm Eingang vom UniSport und haben ab 15:00 Uhr jeweils 2 Plätze für 2 Stunden gemietet\, sodass gleichzeitig 8 Leute spielen können. Der Rest kann in der Zeit zugucken! Für Wasser und kleine Snacks ist gesorgt. 🍿🧊 \n📍Zülpicher Wall 1\, 50674 Köln (Eingang UniSport) \nWichtig:‼️\nMeldet euch bitte bis spätestens zum 13.09.2024 um 12:00 Uhr an.\nDie Plätze sind begrenzt! First come\, first served und Elsa-Mitglieder werden bevorzugt.\nAußerdem müsst ihr an der Universität zu Köln studieren (eventuell müsst ihr euch auch ausweisen). \nBei Fragen könnt ihr mir jederzeit schreiben: director-hr1@elsa-koeln.de! \nWir freuen uns auf einen tollen Nachmittag mit euch! \n  \n\n\n  \n\n\n\nAnmeldung\n \n Nachname (Pflichtfeld)  \n \n Vorname (Pflichtfeld)  \n \n E-Mail (Pflichtfeld)  \n \n Bist du Mitglied bei ELSA? – Bitte auswählen –ELSA-MitgliedKein ELSA-Mitglied\n \n\nIch bin mit der Verarbeitung meiner Daten durch den Verein im Wege der elektronischen Datenverarbeitung einverstanden. Die Daten werden nicht an Dritte weitergegeben.\nIch bin darauf hingewiesen worden\, dass ich diese Erklärung jederzeit per E-Mail an\ninfo@elsa-koeln.de widerrufen kann. Durch den Widerruf wird die Rechtmäßigkeit der\nbis zum Widerruf erfolgten Datenverarbeitung nicht berührt.\n\n \n Ja\, ich bin mit der Verarbeitung meiner Daten einverstanden.
URL:https://elsa-koeln.de/event/sommerabschlussfest/
LOCATION:Privat: UniSport\, Zülpicher Wall 1\, Köln\, NRW\, 50674\, Deutschland
ATTACH;FMTTYPE=image/jpeg:https://elsa-koeln.de/wp-content/uploads/sites/24/2021/04/pexels-min-an-853168-e1618758151963.jpg
END:VEVENT
END:VCALENDAR