BEGIN:VCALENDAR
VERSION:2.0
PRODID:-//ELSA-Köln - ECPv6.15.12.2//NONSGML v1.0//EN
CALSCALE:GREGORIAN
METHOD:PUBLISH
X-WR-CALNAME:ELSA-Köln
X-ORIGINAL-URL:https://elsa-koeln.de
X-WR-CALDESC:Veranstaltungen für ELSA-Köln
REFRESH-INTERVAL;VALUE=DURATION:PT1H
X-Robots-Tag:noindex
X-PUBLISHED-TTL:PT1H
BEGIN:VTIMEZONE
TZID:Europe/Berlin
BEGIN:DAYLIGHT
TZOFFSETFROM:+0100
TZOFFSETTO:+0200
TZNAME:CEST
DTSTART:20230326T010000
END:DAYLIGHT
BEGIN:STANDARD
TZOFFSETFROM:+0200
TZOFFSETTO:+0100
TZNAME:CET
DTSTART:20231029T010000
END:STANDARD
BEGIN:DAYLIGHT
TZOFFSETFROM:+0100
TZOFFSETTO:+0200
TZNAME:CEST
DTSTART:20240331T010000
END:DAYLIGHT
BEGIN:STANDARD
TZOFFSETFROM:+0200
TZOFFSETTO:+0100
TZNAME:CET
DTSTART:20241027T010000
END:STANDARD
BEGIN:DAYLIGHT
TZOFFSETFROM:+0100
TZOFFSETTO:+0200
TZNAME:CEST
DTSTART:20250330T010000
END:DAYLIGHT
BEGIN:STANDARD
TZOFFSETFROM:+0200
TZOFFSETTO:+0100
TZNAME:CET
DTSTART:20251026T010000
END:STANDARD
END:VTIMEZONE
BEGIN:VEVENT
DTSTART;TZID=Europe/Berlin:20241022T190000
DTEND;TZID=Europe/Berlin:20241022T213000
DTSTAMP:20260425T181508
CREATED:20230921T175326Z
LAST-MODIFIED:20241022T123947Z
UID:2711-1729623600-1729632600@elsa-koeln.de
SUMMARY:Info-Veranstaltung mit Get Together
DESCRIPTION:Liebe Erstsemester und Studierende der Rechtswissenschaften\, \nzum Start des neuen Wintersemesters 2024/2025 laden wir euch herzlich zu unserer offiziellen Infoveranstaltung bei ELSA-Köln e.V. ein. Wie jedes Semester richtet sich die Veranstaltung nicht nur an unsere Mitglieder\, sondern an alle Jura-Studierenden – unabhängig vom Fachsemester! \nIm Mittelpunkt steht\, euch die Vorteile einer Mitgliedschaft bei ELSA sowie die Möglichkeiten eines Ehrenamts in unserem Verein näherzubringen. Natürlich habt ihr auch die Gelegenheit\, eure Fragen zu stellen und mit uns ins Gespräch zu kommen. \nKeine Sorge\, wir sind genauso Studierende wie ihr und freuen uns\, wenn wir euch für unser gemeinsames Ziel begeistern können: Das Jura-Uni-Leben ein Stück spannender und bereichernder zu gestalten. Irgendwie träumen wir doch alle ein wenig davon\, dass unser Studium ein Hauch von „Suits“ oder „How to Get Away with Murder“ versprüht – und ELSA kann dabei helfen! \nSpeziell für Erstsemester stellen wir euch auch kurz unter kommendes Mentoring-Programm für Erstis vor\, das im November startet! \nAlso\, kommt vorbei\, seid schnell\, denn die Plätze sind begrenzt– wir freuen uns auf euch! \nAufgrund der unerwartet hohen Teilnehmerzahl können wir leider nicht garantieren\, dass alle eine Goodie Bag bekommen. \nWann? 22.10.24 ab 19:00 Uhr\nWo? Hörsaal B \nBei Fragen könnt ihr euch gern direkt an Karolina unter human-resources@elsa-koeln.de wenden.\nSolltet ihr kurzfristig doch keine Zeit haben\, wäre es super\, wenn ihr uns kurz über dieselbe E-Mail Bescheid gebt. So können wir den Platz rechtzeitig weitervergeben. \nHerzliche Grüße\,\nEuer ELSA-Köln Team
URL:https://elsa-koeln.de/event/info-veranstaltung/
LOCATION:Universität zu Köln\, Hörsaalgebäude (105)\, Universitätsstraße 35\, Köln\, NRW\, 50931\, Germany
ATTACH;FMTTYPE=image/jpeg:https://elsa-koeln.de/wp-content/uploads/sites/24/2021/04/pexels-cottonbro-3171815-1.jpg
END:VEVENT
BEGIN:VEVENT
DTSTART;TZID=Europe/Berlin:20241029T183000
DTEND;TZID=Europe/Berlin:20241029T210000
DTSTAMP:20260425T181508
CREATED:20241009T155725Z
LAST-MODIFIED:20241029T100351Z
UID:3236-1730226600-1730235600@elsa-koeln.de
SUMMARY:Halloween-Abend
DESCRIPTION:Hallo ihr Lieben\, \nunser Halloween-Event am 29.10. steht an.👻🎃 Wir möchten gerne gemeinsam mit euch am 29.10. an der Uni um 18:30 im Seminarraum S12\, einen entspannten Halloween-Abend mit Gemeinschaftsspielen verbringen und das beste Kostüm auswählen\, welches einen Gewinn erhält. 🧙‍♀️🧛‍♀️👹 \nWir würden uns sehr freuen\, wenn ihr euch verkleidet. Ihr könnt euch auch sehr gerne nur schminken oder Accessoires tragen. Jedoch sind natürlich auch diejenigen willkommen\, die sich nicht verkleiden wollen. Hauptsache ihr bringt ganz viel gute Laune mit! 🎉 \nNeben unseren Gemeinschaftsspielen und unserem kleinen Kostüm Contest ist auch schon für Wasser und kleine Snacks gesorgt. 🍿🧊 \nWichtig !\nDie Plätze sind begrenzt! First come\, first served und Elsa-Mitglieder werden bevorzugt. \nWir freuen uns auf einen tollen Abend mit euch! \nBei Fragen könnt ihr mir jederzeit schreiben: director-hr2@elsa-koeln.de \n  \nDerzeit ist eine Anmeldung nicht mehr möglich.
URL:https://elsa-koeln.de/event/halloween-abend/
LOCATION:Universität zu Köln\, Seminargebäude (106)\, Universitätsstraße 37\, Köln\, NRW\, 50931\, Deutschland
END:VEVENT
END:VCALENDAR