BEGIN:VCALENDAR
VERSION:2.0
PRODID:-//ELSA-Köln - ECPv6.15.12.2//NONSGML v1.0//EN
CALSCALE:GREGORIAN
METHOD:PUBLISH
X-WR-CALNAME:ELSA-Köln
X-ORIGINAL-URL:https://elsa-koeln.de
X-WR-CALDESC:Veranstaltungen für ELSA-Köln
REFRESH-INTERVAL;VALUE=DURATION:PT1H
X-Robots-Tag:noindex
X-PUBLISHED-TTL:PT1H
BEGIN:VTIMEZONE
TZID:Europe/Berlin
BEGIN:DAYLIGHT
TZOFFSETFROM:+0100
TZOFFSETTO:+0200
TZNAME:CEST
DTSTART:20240331T010000
END:DAYLIGHT
BEGIN:STANDARD
TZOFFSETFROM:+0200
TZOFFSETTO:+0100
TZNAME:CET
DTSTART:20241027T010000
END:STANDARD
BEGIN:DAYLIGHT
TZOFFSETFROM:+0100
TZOFFSETTO:+0200
TZNAME:CEST
DTSTART:20250330T010000
END:DAYLIGHT
BEGIN:STANDARD
TZOFFSETFROM:+0200
TZOFFSETTO:+0100
TZNAME:CET
DTSTART:20251026T010000
END:STANDARD
BEGIN:DAYLIGHT
TZOFFSETFROM:+0100
TZOFFSETTO:+0200
TZNAME:CEST
DTSTART:20260329T010000
END:DAYLIGHT
BEGIN:STANDARD
TZOFFSETFROM:+0200
TZOFFSETTO:+0100
TZNAME:CET
DTSTART:20261025T010000
END:STANDARD
END:VTIMEZONE
BEGIN:VEVENT
DTSTART;VALUE=DATE:20250701
DTEND;VALUE=DATE:20250702
DTSTAMP:20260425T034201
CREATED:20250504T140540Z
LAST-MODIFIED:20250630T164521Z
UID:3630-1751328000-1751414399@elsa-koeln.de
SUMMARY:World Business Dialogue 2025
DESCRIPTION:Sei dabei beim World Business Dialogue 2025 – mit Freiticket oder 30% Rabatt! \nAm 1. Juli 2025 findet an der Universität zu Köln der 25. World Business Dialogue statt – das weltweit größte von Studierenden organisierte Wirtschaftsevent! Unter dem Leitthema „Beyond Human Capital – Navigating Tomorrow’s Labour Markets“ triffst du Top-Entscheider*innen aus Wirtschaft\, Politik und Wissenschaft und diskutierst über die Zukunft der Arbeit. \nWir haben für euch ein exklusives Kontingent an Freitickets!\nSobald diese vergeben sind\, gibt’s 30% Rabatt auf die regulären Tickets – solange der Vorrat reicht! \nWarum du dabei sein solltest:\n• Case Studies mit Unternehmen wie Deutsche Bank & Horváth\n• Networking mit echten RecruiterInnen\n• Leckeres\, kostenloses Catering & Afterparty\n• Ein Tag voller Insights\, Austausch und Karrierechancen! \nMehr Informationen findet ihr hier. \nDerzeit ist leider keine Anmeldung mehr möglich.
URL:https://elsa-koeln.de/event/world-business-dialogue-2025/
LOCATION:Hauptgebäude Uni Köln\, Universitätsstraße 22a\, Köln\, Deutschland
ATTACH;FMTTYPE=image/jpeg:https://elsa-koeln.de/wp-content/uploads/sites/24/2021/04/pexels-fauxels-3184418.jpg
END:VEVENT
BEGIN:VEVENT
DTSTART;VALUE=DATE:20250702
DTEND;VALUE=DATE:20250705
DTSTAMP:20260425T034201
CREATED:20250311T094348Z
LAST-MODIFIED:20250616T192213Z
UID:3478-1751414400-1751673599@elsa-koeln.de
SUMMARY:Study Visit nach Berlin
DESCRIPTION:Es ist wieder so weit: wir möchten mit euch auf Studienreise fahren! Diesmal geht es in unsere schöne Hauptstadt nach Berlin.\nWir wollen mit euch in die Welt der Politik eintauchen und unter anderem das Bundeskanzleramt\, den Bundestag und das Bundesministerium für Wirtschaft- und Klimaschutz besuchen.* Neben einem spannenden Programm beinhaltet der Teilnehmerbetrag von ​75 € für Mitglieder und 125 € für Nicht-Mitglieder die Unterbringung inkl. Frühstück sowie die Zugfahrten. Ihr habt diesmal die Möglichkeit die Studienfahrt entweder mit einer gemeinsamen Rückreise nach Köln zu beenden oder eigenständig zu verlängern. Sofern ihr nicht mit uns zurück fahrt spart ihr euch 10 € beim Teilnehmerbetrag. Die AGB findet ihr hier. \nWir freuen uns auf eure Anmeldungen! \n*Änderungen im Programm behalten wir uns vor. \nEine Anmeldung ist derzeit leider nicht mehr möglich. \n 
URL:https://elsa-koeln.de/event/test/
LOCATION:Privat: Berlin\, Anhalter Str. 6\, Berlin\, 10963\, Germany
ATTACH;FMTTYPE=image/jpeg:https://elsa-koeln.de/wp-content/uploads/sites/24/2021/04/pexels-min-an-853168-e1618758151963.jpg
END:VEVENT
END:VCALENDAR