BEGIN:VCALENDAR
VERSION:2.0
PRODID:-//ELSA-Köln - ECPv6.15.12.2//NONSGML v1.0//EN
CALSCALE:GREGORIAN
METHOD:PUBLISH
X-ORIGINAL-URL:https://elsa-koeln.de
X-WR-CALDESC:Veranstaltungen für ELSA-Köln
REFRESH-INTERVAL;VALUE=DURATION:PT1H
X-Robots-Tag:noindex
X-PUBLISHED-TTL:PT1H
BEGIN:VTIMEZONE
TZID:Europe/Berlin
BEGIN:DAYLIGHT
TZOFFSETFROM:+0100
TZOFFSETTO:+0200
TZNAME:CEST
DTSTART:20250330T010000
END:DAYLIGHT
BEGIN:STANDARD
TZOFFSETFROM:+0200
TZOFFSETTO:+0100
TZNAME:CET
DTSTART:20251026T010000
END:STANDARD
BEGIN:DAYLIGHT
TZOFFSETFROM:+0100
TZOFFSETTO:+0200
TZNAME:CEST
DTSTART:20260329T010000
END:DAYLIGHT
BEGIN:STANDARD
TZOFFSETFROM:+0200
TZOFFSETTO:+0100
TZNAME:CET
DTSTART:20261025T010000
END:STANDARD
BEGIN:DAYLIGHT
TZOFFSETFROM:+0100
TZOFFSETTO:+0200
TZNAME:CEST
DTSTART:20270328T010000
END:DAYLIGHT
BEGIN:STANDARD
TZOFFSETFROM:+0200
TZOFFSETTO:+0100
TZNAME:CET
DTSTART:20271031T010000
END:STANDARD
END:VTIMEZONE
BEGIN:VEVENT
DTSTART;TZID=Europe/Berlin:20260121T200000
DTEND;TZID=Europe/Berlin:20260121T200000
DTSTAMP:20260424T185310
CREATED:20260115T154212Z
LAST-MODIFIED:20260116T082218Z
UID:4018-1769025600-1769025600@elsa-koeln.de
SUMMARY:Klausuren Q&A
DESCRIPTION:Deine Klausuren stehen an und du hast tausend Fragezeichen im Kopf?\nDann komm nächsten Mittwoch um 20:00 Uhr zu unserem Klausuren Q&A für Erst- und Zweitsemester! \n💻 Das Q&A findet online via Zoom statt. Den Zoom-Link bekommst du nach der Anmeldung per E-Mail. \n✨ Stelle alle deine Fragen rund um\n– Klausuren & Organisation\n– Ablauf\, Anmeldung & Tipps\n– Stress\, Nervosität & Lernchaos \nWir beantworten deine Fragen gerne!\n👉 Einfach anmelden & losfragen! \nWir freuen uns auf dich! 💙 \n\n\n  \n\n\n\nAnmeldung\n \n Nachname (Pflichtfeld)\n \n \n Vorname (Pflichtfeld)\n \n \n E-Mail (Pflichtfeld)\n \n \n Telefonnummer (Plichtfeld)\n \n \n\nBist du Mitglied bei ELSA? – Bitte auswählen –ELSA-MitgliedKein ELSA-Mitglied\n \n  Ich bin mit der Verarbeitung meiner Daten durch den Verein im Wege der elektronischen Datenverarbeitung einverstanden. Die Daten werden nicht an Dritte weitergegeben.\nIch bin darauf hingewiesen worden\, dass ich diese Erklärung jederzeit per E-Mail an info@elsa-koeln.de widerrufen kann. Durch den Widerruf wird die Rechtmäßigkeit der bis zum Widerruf erfolgten Datenverarbeitung nicht berührt.\n\n \n  Ich habe die AGB und die Datenschutzhinweise gelesen und akzeptiere sie. \n \n\n \n\n\n\n 
URL:https://elsa-koeln.de/event/klausuren-qa/
LOCATION:NRW
ATTACH;FMTTYPE=image/jpeg:https://elsa-koeln.de/wp-content/uploads/sites/24/2021/04/pexels-fauxels-3184418.jpg
END:VEVENT
END:VCALENDAR